BEGIN:VCALENDAR
VERSION:2.0
PRODID:-//Sabre//Sabre VObject 4.5.8//EN
CALSCALE:GREGORIAN
BEGIN:VEVENT
UID:sabre-vobject-521bf866-e93d-4ed4-b6f5-eb63c60542f8
DTSTAMP:20260423T222621Z
SUMMARY:Maiandacht - Frauengruppe St. Elisabeth Violau\nanschl. Einkehr in 
 Zusmarshausen
DESCRIPTION:https://pfarreien-bistum-augsburg.df-preview.de/maiandacht-frau
 engruppe-st-elisabeth-violau-anschl-einkehr-in-zusmarshausen_id1750663
DTSTART;TZID=Europe/Berlin:20260520T190000
DURATION:PT30M
LOCATION:St. Michael\, Pius-Mozet-Straße 4\, 86450 Violau
END:VEVENT
END:VCALENDAR
