BEGIN:VCALENDAR
VERSION:2.0
PRODID:-//Sabre//Sabre VObject 4.5.8//EN
CALSCALE:GREGORIAN
BEGIN:VEVENT
UID:sabre-vobject-0ec26393-99e9-467d-959d-0cf183b8a298
DTSTAMP:20260424T225156Z
SUMMARY:Versöhnungsfeier für die Kommunionkinder und deren Familien
DESCRIPTION:https://pfarreien-bistum-augsburg.df-preview.de/versoehnungsfei
 er-fuer-die-kommunionkinder-und-deren-familien_id1750612
DTSTART;TZID=Europe/Berlin:20260515T180000
DURATION:PT30M
LOCATION:St. Nikolaus
END:VEVENT
END:VCALENDAR
