BEGIN:VCALENDAR
VERSION:2.0
PRODID:-//Sabre//Sabre VObject 4.5.8//EN
CALSCALE:GREGORIAN
BEGIN:VEVENT
UID:sabre-vobject-334e3131-4454-4974-a6cf-8f4b1e947a8b
DTSTAMP:20260424T121104Z
SUMMARY:Taufe von Leon Ameo Vogg
DESCRIPTION:https://pfarreien-bistum-augsburg.df-preview.de/taufe-von-leon-
 ameo-vogg_id1750597
DTSTART;TZID=Europe/Berlin:20260425T103000
DURATION:PT30M
LOCATION:St. Leonhard
END:VEVENT
END:VCALENDAR
