BEGIN:VCALENDAR
VERSION:2.0
PRODID:-//Sabre//Sabre VObject 4.5.8//EN
CALSCALE:GREGORIAN
BEGIN:VEVENT
UID:sabre-vobject-71517c72-4bcf-444b-9751-6cd6bdc7b5ea
DTSTAMP:20260424T000134Z
SUMMARY:Kindergottesdienst im Pfarrheim
DESCRIPTION:https://pfarreien-bistum-augsburg.df-preview.de/kindergottesdie
 nst-im-pfarrheim_id1750593
DTSTART;TZID=Europe/Berlin:20260426T094500
DURATION:PT30M
LOCATION:St. Blasius
END:VEVENT
END:VCALENDAR
