BEGIN:VCALENDAR
VERSION:2.0
PRODID:-//Sabre//Sabre VObject 4.5.8//EN
CALSCALE:GREGORIAN
BEGIN:VEVENT
UID:sabre-vobject-dd302f45-ca9f-4296-b4b6-3c8a0e41bef2
DTSTAMP:20260425T220622Z
SUMMARY:Vorabendmesse
DESCRIPTION:https://pfarreien-bistum-augsburg.df-preview.de/vorabendmesse_i
 d1750583
DTSTART;TZID=Europe/Berlin:20260516T170000
DURATION:PT30M
LOCATION:Hlgst. Herz Jesu
END:VEVENT
END:VCALENDAR
