BEGIN:VCALENDAR
VERSION:2.0
PRODID:-//Sabre//Sabre VObject 4.5.8//EN
CALSCALE:GREGORIAN
BEGIN:VEVENT
UID:sabre-vobject-881108be-af8d-445e-88ea-2bb6bb61c587
DTSTAMP:20260424T041315Z
SUMMARY:Kirchenführung Wallfahrt Senioren KE-St. Mang
DESCRIPTION:https://pfarreien-bistum-augsburg.df-preview.de/kirchenfuehrung
 -wallfahrt-senioren-ke-st-mang_id1750579
DTSTART;TZID=Europe/Berlin:20260520T153000
DURATION:PT30M
LOCATION:Mariä Schmerzen u. St. Ulrich\, Kirchhof 4\, 87764 Maria Steinbac
 h
END:VEVENT
END:VCALENDAR
