BEGIN:VCALENDAR
VERSION:2.0
PRODID:-//Sabre//Sabre VObject 4.5.8//EN
CALSCALE:GREGORIAN
BEGIN:VEVENT
UID:sabre-vobject-c3f3f1f5-3fab-4c5a-9eb2-7f21f4e1f8fe
DTSTAMP:20260422T190309Z
SUMMARY:Pilgermesse am Gnadenaltar
DESCRIPTION:https://pfarreien-bistum-augsburg.df-preview.de/pilgermesse-am-
 gnadenaltar_id1750572
DTSTART;TZID=Europe/Berlin:20260603T090000
DURATION:PT30M
LOCATION:St. Michael\, Pius-Mozet-Straße 4\, 86450 Violau
END:VEVENT
END:VCALENDAR
