BEGIN:VCALENDAR
VERSION:2.0
PRODID:-//Sabre//Sabre VObject 4.5.8//EN
CALSCALE:GREGORIAN
BEGIN:VEVENT
UID:sabre-vobject-c8a09743-b341-4bc1-af30-36cd1d61a3ef
DTSTAMP:20260422T193728Z
SUMMARY:Festgottesdienst
DESCRIPTION:https://pfarreien-bistum-augsburg.df-preview.de/festgottesdiens
 t_id1750565
DTSTART;TZID=Europe/Berlin:20260524T103000
DURATION:PT30M
LOCATION:St. Markus
END:VEVENT
END:VCALENDAR
