BEGIN:VCALENDAR
VERSION:2.0
PRODID:-//Sabre//Sabre VObject 4.5.8//EN
CALSCALE:GREGORIAN
BEGIN:VEVENT
UID:sabre-vobject-27a27c28-9483-4fbe-a266-87cbaa342e34
DTSTAMP:20260424T044432Z
SUMMARY:Festgottesdienst zu Pfingsten\, Heilige Messe
DESCRIPTION:https://pfarreien-bistum-augsburg.df-preview.de/festgottesdiens
 t-zu-pfingsten-heilige-messe_id1750506
DTSTART;TZID=Europe/Berlin:20260523T180000
DURATION:PT30M
LOCATION:St. Georg
END:VEVENT
END:VCALENDAR
