BEGIN:VCALENDAR
VERSION:2.0
PRODID:-//Sabre//Sabre VObject 4.5.8//EN
CALSCALE:GREGORIAN
BEGIN:VEVENT
UID:sabre-vobject-62005846-000a-457b-9172-9688fcf2f779
DTSTAMP:20260423T182931Z
SUMMARY:Maiandacht - Opfer für den Maialtar
DESCRIPTION:https://pfarreien-bistum-augsburg.df-preview.de/maiandacht-opfe
 r-fuer-den-maialtar_id1750492
DTSTART;TZID=Europe/Berlin:20260524T180000
DURATION:PT30M
LOCATION:St. Leonhard
END:VEVENT
END:VCALENDAR
