BEGIN:VCALENDAR
VERSION:2.0
PRODID:-//Sabre//Sabre VObject 4.5.8//EN
CALSCALE:GREGORIAN
BEGIN:VEVENT
UID:sabre-vobject-ccb039a5-b5ec-424b-ad54-d6cd42dc80ef
DTSTAMP:20260422T152413Z
SUMMARY:Beichtgelegenheit
DESCRIPTION:https://pfarreien-bistum-augsburg.df-preview.de/beichtgelegenhe
 it_id1750455
DTSTART;TZID=Europe/Berlin:20260603T083000
DURATION:PT30M
LOCATION:St. Michael\, Pius-Mozet-Straße 4\, 86450 Violau
END:VEVENT
END:VCALENDAR
