BEGIN:VCALENDAR
VERSION:2.0
PRODID:-//Sabre//Sabre VObject 4.5.8//EN
CALSCALE:GREGORIAN
BEGIN:VEVENT
UID:sabre-vobject-086bccb5-9536-42df-b6c3-6720491e3771
DTSTAMP:20260422T182310Z
SUMMARY:Festgottesdienst und Wallfahrt der Pfarrei Affaltern\, Heilige Mess
 e
DESCRIPTION:https://pfarreien-bistum-augsburg.df-preview.de/festgottesdiens
 t-und-wallfahrt-der-pfarrei-affaltern-heilige-messe_id1750444
DTSTART;TZID=Europe/Berlin:20260525T100000
DURATION:PT30M
LOCATION:St. Michael\, Pius-Mozet-Straße 4\, 86450 Violau
END:VEVENT
END:VCALENDAR
