BEGIN:VCALENDAR
VERSION:2.0
PRODID:-//Sabre//Sabre VObject 4.5.8//EN
CALSCALE:GREGORIAN
BEGIN:VEVENT
UID:sabre-vobject-4a9b1369-dfa8-44be-8279-cc3e47a36ede
DTSTAMP:20260424T175235Z
SUMMARY:Rosenkranz
DESCRIPTION:https://pfarreien-bistum-augsburg.df-preview.de/rosenkranz_id17
 50397
DTSTART;TZID=Europe/Berlin:20260529T183000
DURATION:PT30M
LOCATION:St. Nikolaus\, Bodenseestraße 157\, 88138 Bösenreutin
END:VEVENT
END:VCALENDAR
