BEGIN:VCALENDAR
VERSION:2.0
PRODID:-//Sabre//Sabre VObject 4.5.8//EN
CALSCALE:GREGORIAN
BEGIN:VEVENT
UID:sabre-vobject-11753925-a903-4873-9f40-549b8dbfda1a
DTSTAMP:20260424T190431Z
SUMMARY:Stille Anbetung
DESCRIPTION:https://pfarreien-bistum-augsburg.df-preview.de/stille-anbetung
 _id1750396
DTSTART;TZID=Europe/Berlin:20260526T190000
DURATION:PT30M
LOCATION:St. Nikolaus\, Bodenseestraße 157\, 88138 Bösenreutin
END:VEVENT
END:VCALENDAR
