BEGIN:VCALENDAR
VERSION:2.0
PRODID:-//Sabre//Sabre VObject 4.5.8//EN
CALSCALE:GREGORIAN
BEGIN:VEVENT
UID:sabre-vobject-54fd9d79-0a3c-47a4-8e9f-93e7a4d7065c
DTSTAMP:20260423T212422Z
SUMMARY:kein Gottesdienst
DESCRIPTION:https://pfarreien-bistum-augsburg.df-preview.de/kein-gottesdien
 st_id1750393
DTSTART;TZID=Europe/Berlin:20260426T000000
DURATION:PT30M
LOCATION:St. Michael
END:VEVENT
END:VCALENDAR
