BEGIN:VCALENDAR
VERSION:2.0
PRODID:-//Sabre//Sabre VObject 4.5.8//EN
CALSCALE:GREGORIAN
BEGIN:VEVENT
UID:sabre-vobject-a034dce6-a783-42fb-be17-e01576e684a8
DTSTAMP:20260423T125154Z
SUMMARY:Beichtgelegenheit
DESCRIPTION:https://pfarreien-bistum-augsburg.df-preview.de/beichtgelegenhe
 it_id1750343
DTSTART;TZID=Europe/Berlin:20260425T163000
DURATION:PT30M
LOCATION:Hlgst. Herz Jesu
END:VEVENT
END:VCALENDAR
