BEGIN:VCALENDAR
VERSION:2.0
PRODID:-//Sabre//Sabre VObject 4.5.8//EN
CALSCALE:GREGORIAN
BEGIN:VEVENT
UID:sabre-vobject-9f305bc4-fc2a-4788-8c84-32882990dc44
DTSTAMP:20260424T084211Z
SUMMARY:Rosenkranz
DESCRIPTION:https://pfarreien-bistum-augsburg.df-preview.de/rosenkranz_id17
 50307
DTSTART;TZID=Europe/Berlin:20260528T183000
DURATION:PT30M
LOCATION:St. Ambrosius
END:VEVENT
END:VCALENDAR
