BEGIN:VCALENDAR
VERSION:2.0
PRODID:-//Sabre//Sabre VObject 4.5.8//EN
CALSCALE:GREGORIAN
BEGIN:VEVENT
UID:sabre-vobject-de8274dc-fed1-4c85-866b-9c867c5d6f7a
DTSTAMP:20260424T194723Z
SUMMARY:Maiandacht\, anschl. eucharist. Lichterprozession
DESCRIPTION:https://pfarreien-bistum-augsburg.df-preview.de/maiandacht-ansc
 hl-eucharist-lichterprozession_id1750264
DTSTART;TZID=Europe/Berlin:20260502T203000
DURATION:PT30M
LOCATION:Heilig Kreuz
END:VEVENT
END:VCALENDAR
