BEGIN:VCALENDAR
VERSION:2.0
PRODID:-//Sabre//Sabre VObject 4.5.8//EN
CALSCALE:GREGORIAN
BEGIN:VEVENT
UID:sabre-vobject-dd15b245-364a-40be-9e48-4e5345d6fd65
DTSTAMP:20260424T205837Z
SUMMARY:Rosenkranz für den Frieden (in d. Klosterkapelle)
DESCRIPTION:https://pfarreien-bistum-augsburg.df-preview.de/rosenkranz-fuer
 -den-frieden-in-d-klosterkapelle_id1750261
DTSTART;TZID=Europe/Berlin:20260504T180000
DURATION:PT30M
LOCATION:Heilig Kreuz
END:VEVENT
END:VCALENDAR
