BEGIN:VCALENDAR
VERSION:2.0
PRODID:-//Sabre//Sabre VObject 4.5.8//EN
CALSCALE:GREGORIAN
BEGIN:VEVENT
UID:sabre-vobject-88899406-7ba9-4aba-b031-a5ea9e538d2f
DTSTAMP:20260423T052357Z
SUMMARY:Wortgottesdienst
DESCRIPTION:https://pfarreien-bistum-augsburg.df-preview.de/wortgottesdiens
 t_id1750256
DTSTART;TZID=Europe/Berlin:20260524T090000
DURATION:PT30M
LOCATION:St. Gallus
END:VEVENT
END:VCALENDAR
