BEGIN:VCALENDAR
VERSION:2.0
PRODID:-//Sabre//Sabre VObject 4.5.8//EN
CALSCALE:GREGORIAN
BEGIN:VEVENT
UID:sabre-vobject-20a77aed-8ac7-4cd7-b16e-522c167051fc
DTSTAMP:20260425T114319Z
SUMMARY:Eucharistische Anbetung
DESCRIPTION:https://pfarreien-bistum-augsburg.df-preview.de/eucharistische-
 anbetung_id1750253
DTSTART;TZID=Europe/Berlin:20260518T150000
DURATION:PT30M
LOCATION:St. Gallus
END:VEVENT
END:VCALENDAR
