BEGIN:VCALENDAR
VERSION:2.0
PRODID:-//Sabre//Sabre VObject 4.5.8//EN
CALSCALE:GREGORIAN
BEGIN:VEVENT
UID:sabre-vobject-fd0f4f5e-56fb-468d-9eca-2e0962fdb86e
DTSTAMP:20260423T222526Z
SUMMARY:Auf dem Kinberg: Hl. Messe
DESCRIPTION:https://pfarreien-bistum-augsburg.df-preview.de/auf-dem-kinberg
 -hl-messe_id1750233
DTSTART;TZID=Europe/Berlin:20260520T190000
DURATION:PT30M
LOCATION:St. Peter und Paul
END:VEVENT
END:VCALENDAR
