BEGIN:VCALENDAR
VERSION:2.0
PRODID:-//Sabre//Sabre VObject 4.5.8//EN
CALSCALE:GREGORIAN
BEGIN:VEVENT
UID:sabre-vobject-02d60fec-b09f-4dc8-b359-d94bea934ecc
DTSTAMP:20260422T152425Z
SUMMARY:Maiandacht
DESCRIPTION:https://pfarreien-bistum-augsburg.df-preview.de/maiandacht_id17
 50227
DTSTART;TZID=Europe/Berlin:20260525T180000
DURATION:PT30M
LOCATION:Mariä Schmerzen
END:VEVENT
END:VCALENDAR
