BEGIN:VCALENDAR
VERSION:2.0
PRODID:-//Sabre//Sabre VObject 4.5.8//EN
CALSCALE:GREGORIAN
BEGIN:VEVENT
UID:sabre-vobject-4a66a75b-c987-4f9f-8bcc-198e6d2de502
DTSTAMP:20260425T010320Z
SUMMARY:Feierliche Vesper
DESCRIPTION:https://pfarreien-bistum-augsburg.df-preview.de/feierliche-vesp
 er_id1750221
DTSTART;TZID=Europe/Berlin:20260426T170000
DURATION:PT30M
LOCATION:St. Alban
END:VEVENT
END:VCALENDAR
