BEGIN:VCALENDAR
VERSION:2.0
PRODID:-//Sabre//Sabre VObject 4.5.8//EN
CALSCALE:GREGORIAN
BEGIN:VEVENT
UID:sabre-vobject-41cb0949-a56d-4eb9-9c62-3647e0d7edbc
DTSTAMP:20260424T235326Z
SUMMARY:Pfarrgottesdienst f. leb. u. verst. Ang. der PG\nanschl. Empfang an
 l. 50. Geburtstag  von H. Pfarrer Eichler
DESCRIPTION:https://pfarreien-bistum-augsburg.df-preview.de/pfarrgottesdien
 st-f-leb-u-verst-ang-der-pg-anschl-empfang-anl-50-geburtstag-von-h-pfarrer
 -eichler_id1750220
DTSTART;TZID=Europe/Berlin:20260426T100000
DURATION:PT30M
LOCATION:St. Alban
END:VEVENT
END:VCALENDAR
