BEGIN:VCALENDAR
VERSION:2.0
PRODID:-//Sabre//Sabre VObject 4.5.8//EN
CALSCALE:GREGORIAN
BEGIN:VEVENT
UID:sabre-vobject-1e359d57-b62f-4266-9444-4eecbed45eb4
DTSTAMP:20260424T225101Z
SUMMARY:Hl. Messe mit Erstkommunion f. Wa u. Mu\nf. die leb. u. verst. Ang.
  der Erstkommunionkinder
DESCRIPTION:https://pfarreien-bistum-augsburg.df-preview.de/hl-messe-mit-er
 stkommunion-f-wa-u-mu-f-die-leb-u-verst-ang-der-erstkommunionkinder_id1750
 215
DTSTART;TZID=Europe/Berlin:20260425T100000
DURATION:PT30M
LOCATION:St. Alban
END:VEVENT
END:VCALENDAR
