BEGIN:VCALENDAR
VERSION:2.0
PRODID:-//Sabre//Sabre VObject 4.5.8//EN
CALSCALE:GREGORIAN
BEGIN:VEVENT
UID:sabre-vobject-e7d0e3b8-1c00-4314-8048-fc28a5046145
DTSTAMP:20260424T235429Z
SUMMARY:Treffen der Kinder im Pfarrhof
DESCRIPTION:https://pfarreien-bistum-augsburg.df-preview.de/treffen-der-kin
 der-im-pfarrhof_id1750214
DTSTART;TZID=Europe/Berlin:20260425T094000
DURATION:PT30M
LOCATION:St. Alban
END:VEVENT
END:VCALENDAR
