BEGIN:VCALENDAR
VERSION:2.0
PRODID:-//Sabre//Sabre VObject 4.5.8//EN
CALSCALE:GREGORIAN
BEGIN:VEVENT
UID:sabre-vobject-12a695c6-56f5-4205-b55f-ba8be33ed475
DTSTAMP:20260423T033153Z
SUMMARY:Sonntagvorabendmesse zum Patrozinium St. Georg
DESCRIPTION:https://pfarreien-bistum-augsburg.df-preview.de/sonntagvorabend
 messe-zum-patrozinium-st-georg_id1750200
DTSTART;TZID=Europe/Berlin:20260425T183000
DURATION:PT30M
LOCATION:St. Georg
END:VEVENT
END:VCALENDAR
