BEGIN:VCALENDAR
VERSION:2.0
PRODID:-//Sabre//Sabre VObject 4.5.8//EN
CALSCALE:GREGORIAN
BEGIN:VEVENT
UID:sabre-vobject-b9065781-58bb-4341-876b-29f75f949f8b
DTSTAMP:20260423T221613Z
SUMMARY:Heilige Messe\, anschl. Rosenkranz um geistliche Berufe und für un
 sere Priester
DESCRIPTION:https://pfarreien-bistum-augsburg.df-preview.de/gottesdienste/h
 eilige-messe-anschl-rosenkranz-um-geistliche-berufe-und-fuer-unsere-priest
 er_id1750126
DTSTART;TZID=Europe/Berlin:20260428T090000
DURATION:PT30M
LOCATION:St. Hippolyt
END:VEVENT
END:VCALENDAR
