BEGIN:VCALENDAR
VERSION:2.0
PRODID:-//Sabre//Sabre VObject 4.5.8//EN
CALSCALE:GREGORIAN
BEGIN:VEVENT
UID:sabre-vobject-061afc4f-390c-454c-818a-54db766f15d4
DTSTAMP:20260424T011801Z
SUMMARY:Tauffeier
DESCRIPTION:https://pfarreien-bistum-augsburg.df-preview.de/tauffeier_id175
 0104
DTSTART;TZID=Europe/Berlin:20260523T140000
DURATION:PT30M
LOCATION:Mariä Himmelfahrt
END:VEVENT
END:VCALENDAR
