BEGIN:VCALENDAR
VERSION:2.0
PRODID:-//Sabre//Sabre VObject 4.5.8//EN
CALSCALE:GREGORIAN
BEGIN:VEVENT
UID:sabre-vobject-9831b024-2945-4847-9d1a-47cc29a9054c
DTSTAMP:20260423T014136Z
SUMMARY:Seniorenheim: Gottesdienst
DESCRIPTION:https://pfarreien-bistum-augsburg.df-preview.de/seniorenheim-go
 ttesdienst_id1750098
DTSTART;TZID=Europe/Berlin:20260527T093000
DURATION:PT30M
LOCATION:St. Gordian und Epimach
END:VEVENT
END:VCALENDAR
