BEGIN:VCALENDAR
VERSION:2.0
PRODID:-//Sabre//Sabre VObject 4.5.8//EN
CALSCALE:GREGORIAN
BEGIN:VEVENT
UID:sabre-vobject-d083a923-be23-4d1f-8884-39c1faffa83f
DTSTAMP:20260425T141028Z
SUMMARY:Heilige Messe\, anschl. Maiandacht bis 10.00 Uhr
DESCRIPTION:https://pfarreien-bistum-augsburg.df-preview.de/heilige-messe-a
 nschl-maiandacht-bis-10-00-uhr_id1750054
DTSTART;TZID=Europe/Berlin:20260519T090000
DURATION:PT30M
LOCATION:St. Andreas
END:VEVENT
END:VCALENDAR
