BEGIN:VCALENDAR
VERSION:2.0
PRODID:-//Sabre//Sabre VObject 4.5.8//EN
CALSCALE:GREGORIAN
BEGIN:VEVENT
UID:sabre-vobject-e9ddd022-c4b7-4ef2-b890-8c789904887e
DTSTAMP:20260425T175330Z
SUMMARY:Anbetung und Gebet um geistliche Berufung
DESCRIPTION:https://pfarreien-bistum-augsburg.df-preview.de/anbetung-und-ge
 bet-um-geistliche-berufung_id1750023
DTSTART;TZID=Europe/Berlin:20260507T183000
DURATION:PT30M
LOCATION:St. Gallus
END:VEVENT
END:VCALENDAR
