BEGIN:VCALENDAR
VERSION:2.0
PRODID:-//Sabre//Sabre VObject 4.5.8//EN
CALSCALE:GREGORIAN
BEGIN:VEVENT
UID:sabre-vobject-e69a04c3-a3e3-4afd-ad08-1b5127b7b9cf
DTSTAMP:20260422T164656Z
SUMMARY:Hl. Amt zu Ehren des Hl. Kreuzes und der Schmerzhaften Muttergottes
DESCRIPTION:https://pfarreien-bistum-augsburg.df-preview.de/hl-amt-zu-ehren
 -des-hl-kreuzes-und-der-schmerzhaften-muttergottes_id1750015
DTSTART;TZID=Europe/Berlin:20260529T090000
DURATION:PT30M
LOCATION:Mariä Schmerzen u. St. Ulrich\, Kirchhof 4\, 87764 Maria Steinbac
 h
END:VEVENT
END:VCALENDAR
