BEGIN:VCALENDAR
VERSION:2.0
PRODID:-//Sabre//Sabre VObject 4.5.8//EN
CALSCALE:GREGORIAN
BEGIN:VEVENT
UID:sabre-vobject-fcf0aabf-fbd5-41e2-848c-93f1a25574e7
DTSTAMP:20260422T212942Z
SUMMARY:Heilige Messe
DESCRIPTION:https://pfarreien-bistum-augsburg.df-preview.de/heilige-messe_i
 d1750014
DTSTART;TZID=Europe/Berlin:20260506T183000
DURATION:PT30M
LOCATION:Maria\, Hilfe der Christen\, Aresinger Straße 12\, 86561 Unterwei
 lenbach
END:VEVENT
END:VCALENDAR
