BEGIN:VCALENDAR
VERSION:2.0
PRODID:-//Sabre//Sabre VObject 4.5.8//EN
CALSCALE:GREGORIAN
BEGIN:VEVENT
UID:sabre-vobject-001afdbb-4577-42cf-8a97-b577e24403f4
DTSTAMP:20260422T175613Z
SUMMARY:Salve Regina und Rosenkranz
DESCRIPTION:https://pfarreien-bistum-augsburg.df-preview.de/salve-regina-un
 d-rosenkranz_id1749985
DTSTART;TZID=Europe/Berlin:20260529T083000
DURATION:PT30M
LOCATION:Mariä Schmerzen u. St. Ulrich\, Kirchhof 4\, 87764 Maria Steinbac
 h
END:VEVENT
END:VCALENDAR
