BEGIN:VCALENDAR
VERSION:2.0
PRODID:-//Sabre//Sabre VObject 4.5.8//EN
CALSCALE:GREGORIAN
BEGIN:VEVENT
UID:sabre-vobject-088e3588-7349-45e5-8fb1-68e8a9a24752
DTSTAMP:20260426T035020Z
SUMMARY:Rosenkranz
DESCRIPTION:https://pfarreien-bistum-augsburg.df-preview.de/rosenkranz_id17
 49979
DTSTART;TZID=Europe/Berlin:20260519T182500
DURATION:PT30M
LOCATION:Unsere Liebe Frau
END:VEVENT
END:VCALENDAR
