BEGIN:VCALENDAR
VERSION:2.0
PRODID:-//Sabre//Sabre VObject 4.5.8//EN
CALSCALE:GREGORIAN
BEGIN:VEVENT
UID:sabre-vobject-f6879798-87ec-49e6-8a0b-5bfa71840760
DTSTAMP:20260423T081057Z
SUMMARY:Wallfahrermesse
DESCRIPTION:https://pfarreien-bistum-augsburg.df-preview.de/wallfahrermesse
 _id1749965
DTSTART;TZID=Europe/Berlin:20260524T113000
DURATION:PT30M
LOCATION:Mariä Schmerzen u. St. Ulrich\, Kirchhof 4\, 87764 Maria Steinbac
 h
END:VEVENT
END:VCALENDAR
