BEGIN:VCALENDAR
VERSION:2.0
PRODID:-//Sabre//Sabre VObject 4.5.8//EN
CALSCALE:GREGORIAN
BEGIN:VEVENT
UID:sabre-vobject-d60ea8ab-6511-4174-b13a-7784a310cb5f
DTSTAMP:20260423T112040Z
SUMMARY:Rosenkranz in den Wallfahreranliegen
DESCRIPTION:https://pfarreien-bistum-augsburg.df-preview.de/rosenkranz-in-d
 en-wallfahreranliegen_id1749963
DTSTART;TZID=Europe/Berlin:20260524T083000
DURATION:PT30M
LOCATION:Mariä Schmerzen u. St. Ulrich\, Kirchhof 4\, 87764 Maria Steinbac
 h
END:VEVENT
END:VCALENDAR
