BEGIN:VCALENDAR
VERSION:2.0
PRODID:-//Sabre//Sabre VObject 4.5.8//EN
CALSCALE:GREGORIAN
BEGIN:VEVENT
UID:sabre-vobject-0a050c51-08b9-4037-9cf1-28bf56d36cc0
DTSTAMP:20260423T154407Z
SUMMARY:Hl. Amt zu Ehren des Hl. Kreuzes und der Schmerzhaften Muttergottes
DESCRIPTION:https://pfarreien-bistum-augsburg.df-preview.de/hl-amt-zu-ehren
 -des-hl-kreuzes-und-der-schmerzhaften-muttergottes_id1749961
DTSTART;TZID=Europe/Berlin:20260522T090000
DURATION:PT30M
LOCATION:Mariä Schmerzen u. St. Ulrich\, Kirchhof 4\, 87764 Maria Steinbac
 h
END:VEVENT
END:VCALENDAR
