BEGIN:VCALENDAR
VERSION:2.0
PRODID:-//Sabre//Sabre VObject 4.5.8//EN
CALSCALE:GREGORIAN
BEGIN:VEVENT
UID:sabre-vobject-9400049d-9a6c-4c43-ba4a-fed6077e899d
DTSTAMP:20260424T102031Z
SUMMARY:Hl. Messe in der Schwesternkapelle von Regens WagnerEntfällt!
DESCRIPTION:https://pfarreien-bistum-augsburg.df-preview.de/hl-messe-in-der
 -schwesternkapelle-von-regens-wagner-entfaellt_id1749951
DTSTART;TZID=Europe/Berlin:20260528T073000
DURATION:PT30M
LOCATION:St. Peter und Paul\, Kirchtalstr. 2\, 87763 Lautrach
END:VEVENT
END:VCALENDAR
