BEGIN:VCALENDAR
VERSION:2.0
PRODID:-//Sabre//Sabre VObject 4.5.8//EN
CALSCALE:GREGORIAN
BEGIN:VEVENT
UID:sabre-vobject-e10b0f87-6ca1-4629-9be6-5b96b4fa83bb
DTSTAMP:20260425T213311Z
SUMMARY:Wallfahrermesse
DESCRIPTION:https://pfarreien-bistum-augsburg.df-preview.de/wallfahrermesse
 _id1749921
DTSTART;TZID=Europe/Berlin:20260510T113000
DURATION:PT30M
LOCATION:Mariä Schmerzen u. St. Ulrich\, Kirchhof 4\, 87764 Maria Steinbac
 h
END:VEVENT
END:VCALENDAR
