BEGIN:VCALENDAR
VERSION:2.0
PRODID:-//Sabre//Sabre VObject 4.5.8//EN
CALSCALE:GREGORIAN
BEGIN:VEVENT
UID:sabre-vobject-7f8d0390-35c7-46c3-a280-b980c356be09
DTSTAMP:20260425T174708Z
SUMMARY:Rosenkranz in den Wallfahreranliegen
DESCRIPTION:https://pfarreien-bistum-augsburg.df-preview.de/rosenkranz-in-d
 en-wallfahreranliegen_id1749919
DTSTART;TZID=Europe/Berlin:20260510T083000
DURATION:PT30M
LOCATION:Mariä Schmerzen u. St. Ulrich\, Kirchhof 4\, 87764 Maria Steinbac
 h
END:VEVENT
END:VCALENDAR
