BEGIN:VCALENDAR
VERSION:2.0
PRODID:-//Sabre//Sabre VObject 4.5.8//EN
CALSCALE:GREGORIAN
BEGIN:VEVENT
UID:sabre-vobject-3dd7ba8b-7fa3-4ce3-9b31-0c1b4848e52c
DTSTAMP:20260424T195448Z
SUMMARY:feierliche Maiandacht mit Männerchor Kimratshofen
DESCRIPTION:https://pfarreien-bistum-augsburg.df-preview.de/feierliche-maia
 ndacht-mit-maennerchor-kimratshofen_id1749871
DTSTART;TZID=Europe/Berlin:20260517T191500
DURATION:PT30M
LOCATION:Mariä Schmerzen u. St. Ulrich\, Kirchhof 4\, 87764 Maria Steinbac
 h
END:VEVENT
END:VCALENDAR
