BEGIN:VCALENDAR
VERSION:2.0
PRODID:-//Sabre//Sabre VObject 4.5.8//EN
CALSCALE:GREGORIAN
BEGIN:VEVENT
UID:sabre-vobject-46961f55-ba85-4cda-b39f-7b438994f157
DTSTAMP:20260424T174910Z
SUMMARY:Wallfahrermesse
DESCRIPTION:https://pfarreien-bistum-augsburg.df-preview.de/wallfahrermesse
 _id1749870
DTSTART;TZID=Europe/Berlin:20260517T113000
DURATION:PT30M
LOCATION:Mariä Schmerzen u. St. Ulrich\, Kirchhof 4\, 87764 Maria Steinbac
 h
END:VEVENT
END:VCALENDAR
