BEGIN:VCALENDAR
VERSION:2.0
PRODID:-//Sabre//Sabre VObject 4.5.8//EN
CALSCALE:GREGORIAN
BEGIN:VEVENT
UID:sabre-vobject-d25198d7-6c5d-4d14-8053-36fcee025b01
DTSTAMP:20260424T011351Z
SUMMARY:Barmherzigkeitsrosenkranz
DESCRIPTION:https://pfarreien-bistum-augsburg.df-preview.de/barmherzigkeits
 rosenkranz_id1749736
DTSTART;TZID=Europe/Berlin:20260523T184500
DURATION:PT30M
LOCATION:St. Nikolaus\, Hitzenhofer Str. 1\, 87758 Kronburg-Kardorf
END:VEVENT
END:VCALENDAR
