BEGIN:VCALENDAR
VERSION:2.0
PRODID:-//Sabre//Sabre VObject 4.5.8//EN
CALSCALE:GREGORIAN
BEGIN:VEVENT
UID:sabre-vobject-bbbc46a2-8ce5-4f44-85cb-6fc8769c4dff
DTSTAMP:20260422T105646Z
SUMMARY:Bittgang von Sainbach nach Inchenhofen dort hl. Messe um günstige 
 Witterung\, eine gute Ernte und um Segen für die Fluren
DESCRIPTION:https://pfarreien-bistum-augsburg.df-preview.de/bittgang-von-sa
 inbach-nach-inchenhofen-dort-hl-messe-um-guenstige-witterung-eine-gute-ern
 te-und-um-segen-fuer-die-fluren_id1749727
DTSTART;TZID=Europe/Berlin:20260511T183000
DURATION:PT30M
LOCATION:St. Nikolaus\, Kirchpl. 3\, 86570 Inchenhofen
END:VEVENT
END:VCALENDAR
