BEGIN:VCALENDAR
VERSION:2.0
PRODID:-//Sabre//Sabre VObject 4.5.8//EN
CALSCALE:GREGORIAN
BEGIN:VEVENT
UID:sabre-vobject-ceb7e694-be85-42aa-9040-bb88a3d24e94
DTSTAMP:20260422T145312Z
SUMMARY:Hl. Messe
DESCRIPTION:https://pfarreien-bistum-augsburg.df-preview.de/hl-messe_id1749
 719
DTSTART;TZID=Europe/Berlin:20260515T190000
DURATION:PT30M
LOCATION:Maria Verkündigung\, Ainertshofen 1\, 86570 Ainertshofen
END:VEVENT
END:VCALENDAR
