BEGIN:VCALENDAR
VERSION:2.0
PRODID:-//Sabre//Sabre VObject 4.5.8//EN
CALSCALE:GREGORIAN
BEGIN:VEVENT
UID:sabre-vobject-71d77927-1f60-4447-8d68-239550faccda
DTSTAMP:20260425T022115Z
SUMMARY:Hl. Messe
DESCRIPTION:https://pfarreien-bistum-augsburg.df-preview.de/hl-messe_id1749
 707
DTSTART;TZID=Europe/Berlin:20260519T080000
DURATION:PT30M
LOCATION:Mariä Himmelfahrt\, Schlottergasse 2\, 87758 Kronburg-Illerbeuren
END:VEVENT
END:VCALENDAR
