BEGIN:VCALENDAR
VERSION:2.0
PRODID:-//Sabre//Sabre VObject 4.5.8//EN
CALSCALE:GREGORIAN
BEGIN:VEVENT
UID:sabre-vobject-6a5aea3d-0cfd-468d-a2da-d9ad91bcd1cb
DTSTAMP:20260425T205843Z
SUMMARY:Barmherzigkeitsrosenkranz
DESCRIPTION:https://pfarreien-bistum-augsburg.df-preview.de/barmherzigkeits
 rosenkranz_id1749700
DTSTART;TZID=Europe/Berlin:20260514T084500
DURATION:PT30M
LOCATION:Mariä Himmelfahrt\, Schlottergasse 2\, 87758 Kronburg-Illerbeuren
END:VEVENT
END:VCALENDAR
